{"text_format":"3","workbook":"xlsx","n_sheets":6,"sheets":["事務受託様式6号","1事務受託様式第５号","2事務受託様式４号","3共済契約者別一覧","4事務受託様式２号","5事務受託様式3号"],"not_rendered":{"defined_names":5,"comments":6},"read":"whole","date_system":"1900"}

{"sheet":"事務受託様式6号","index":0,"n_rows":34,"n_cols":45,"rows_kept":34,"merged":[[0,37,0,38],[1,38,1,39],[5,1,5,16],[6,28,7,39],[10,1,10,43],[12,9,13,33],[16,18,17,22],[22,37,22,39],[23,4,23,10],[23,11,23,18],[23,19,23,25],[23,26,23,32],[23,33,23,39],[24,4,24,10],[24,11,24,18],[24,19,24,25],[24,26,24,32],[24,33,24,39],[26,14,27,20],[26,21,27,27],[26,28,27,34],[26,35,27,41],[28,14,28,20],[28,21,28,27],[28,28,28,34],[28,35,28,41]]}
[null,"建退共事務受託様式第6号"]
[{"$nulls":38},2023,null,"年",6,"月",1,"日"]
[]
[]
[null,"（元請事業者）"]
[null,"四国土建株式会社",{"$nulls":15},"様"]
[{"$nulls":28},"●●株式会社"]
[{"$nulls":24},"下請業者"]
[]
[]
[null,"建設業退職金共済制度加入労働者数報告書"]
[]
[{"$nulls":9},"12-第34号　　△△改修工事"]
[null,"〔工事番号および工事名：　　　　　　　　　　　　　　　　　　　　　　　　　　　　　　　　　　　　　　　　　　　　　　　　　　　　　　　　　　　　　",{"$nulls":32},"〕"]
[null,"いずれか該当する□にレ点をつけてください。"]
[null,"レ","　１．建退共制度に加入している"]
[]
[null,null,"  ２．建退共制度に加入していない　（就労予定労働者数",{"$nulls":20},"人","）"]
[]
[null,"以下のとおり、建退共制度の対象労働者数等を報告します。"]
[null,null,"※「□　２．建退共制度に加入していない」に該当した場合は、「共済契約者番号」は「－」、「うち、被共済者数②」は「０人」とし、これ以外の項目は記載してください。"]
[]
[{"$nulls":37},"（単位：人）"]
[{"$nulls":4},"共済契約者番号",{"$nulls":6},"事務所名",{"$nulls":7},"就労予定労働者数①",{"$nulls":6},"うち、被共済者数②",{"$nulls":6},"被共済者以外（①―②）"]
[{"$nulls":4},"12-3456",{"$nulls":6},"●●株式会社",{"$nulls":7},10,{"$nulls":6},5,{"$nulls":6},{"$f":"IF(T25=\"\",\"\",T25-AA25)","v":5}]
[{"$nulls":12},"（被共済者以外（①―②）の内訳）"]
[{"$nulls":14},"企業の役員\n",{"$nulls":6},"中退共、商工会など他\nの退職金制度に加入",{"$nulls":6},"自社の退職金制度のみ\nを適用",{"$nulls":6},"その他\n（具体的に）"]
[]
[{"$nulls":14},0,{"$nulls":6},5,{"$nulls":6},0,{"$nulls":6},0]
[]
[null,"注１）  自社の退職金制度と建退共制度を両方適用している場合は、被共済者に該当しますので、「うち、被共済者数②」にその人数を記載してください。"]
[null,"注２）  「中退共、商工会など他の退職金制度に加入」の場合は、加入証明書や契約書の写しなど、加入していることが分かる資料をつけてください。"]
[null,"注３）  「自社の退職金制度のみを適用」の場合は、就業規則、退職金規程の写しなど、適用していることが分かる資料をつけてください。"]
[null,"注４）  工事種別、工法等により「就労予定労働者数①」が著しく少ない場合は、その理由の分かる資料をつけてください。"]

{"sheet":"1事務受託様式第５号","index":1,"n_rows":36,"n_cols":44,"rows_kept":36,"merged":[[0,1,0,41],[2,1,2,40],[4,4,4,13],[4,30,4,32],[4,33,4,40],[5,1,5,13],[5,30,5,32],[5,33,5,40],[7,1,7,2],[7,3,7,29],[8,1,8,2],[8,3,8,29],[8,33,9,33],[8,34,9,40],[9,1,9,2],[9,3,9,13],[10,1,10,2],[10,3,10,13],[10,33,12,33],[10,34,12,40],[11,1,11,2],[11,3,12,13],[12,1,12,2],[13,1,13,2],[13,3,13,29],[13,36,13,40],[14,1,14,2],[14,3,14,29],[14,33,14,40],[15,1,15,2],[15,3,16,29],[15,33,17,40],[16,1,16,2],[17,1,17,2],[17,3,17,29],[19,1,19,2],[19,3,19,4],[19,15,19,18],[19,19,19,26],[20,1,20,2],[20,3,20,13],[20,15,20,18],[20,19,20,40],[22,2,22,3],[23,1,24,1],[23,2,24,2],[23,3,24,3],[23,4,24,4],[23,5,24,5],[23,6,24,7],[23,19,23,25],[23,27,23,33],[23,41,24,41],[25,6,25,7],[26,6,26,7],[27,6,27,7],[28,6,28,7],[29,6,29,7],[30,6,30,7],[31,6,31,7],[32,6,32,7],[33,6,33,7],[34,6,34,7]]}
[]
[null,"　　建退共事務受託様式第５号"]
[null,"被共済者就労状況報告書（日別報告様式）"]
[{"$nulls":4},{"$f":"IF(事務受託様式6号!B6=0,\"\",事務受託様式6号!B6)","v":"四国土建株式会社"}]
[null,"提出先共済契約者番号",null,null,"87-1242",{"$nulls":25},"整理番号"]
[null,{"$f":"IF(事務受託様式6号!B6=0,\"\",事務受託様式6号!B6)","v":"四国土建株式会社"},{"$nulls":12},"殿",{"$nulls":14},"","報告日",null,null,"2023-07-03"]
[{"$nulls":43},"注意！"]
[null,"報告事業所名",null,"●●株式会社",{"$nulls":39},"このExcelは、就労実績報告作成ツールには"]
[null,"住所〒",null,"香川県○○市▲▲町１丁目１１番地",{"$nulls":29},"○","掛金納付についての\n事務を委託します。",{"$nulls":8},"取込めません！"]
[null,"電話番号",null,"0877-11-1111",{"$nulls":39},"就労実績報告作成ツールに取込む場合は、"]
[null,"共済契約者番号",null,"12-3456",{"$nulls":29},"○","就労実績の集計に建設\nキャリアアップシステムを\n活用しています。",{"$nulls":8},"専用のExcel様式をご使用ください。"]
[null,"建設キャリアアップシステム",null,"34567890123456"]
[null,"事業者ⅠD"]
[null,"工事番号および\n工事名",null,"12-第34号　　△△改修工事"]
[null,"工事コード",null,"99-999-9999号",{"$nulls":29},"現場責任者確認"]
[null,"建設キャリアアップシステム",null,"56789012345678"]
[null,"現場ⅠD"]
[null,"備考"]
[]
[null,"（契約者番号）",null,{"$f":"E5","v":"87-1242"},{"$nulls":11},"（契約者番号）",{"$nulls":3},"12-3456"]
[null,"元請事業所名",null,{"$f":"B6","v":"四国土建株式会社"},{"$nulls":11},"一次事業所名",{"$nulls":3},"●●株式会社"]
[null,"次の表のとおり、就労実績を報告します。"]
[null,null,"CCUS情報"]
[null,"No.","技能者ＩＤ","立場","被共済者番号","項番","被共済者名",{"$nulls":11},"就労状況","2023-06-01",{"$nulls":6},"～","2023-06-30",{"$nulls":13},"CCUS"]
[{"$nulls":8},{"$f":"DAY($T$24)","v":1},{"$f":"DAY($T$24+1)","v":2},{"$f":"DAY($T$24+2)","v":3},{"$f":"DAY($T$24+3)","v":4},{"$f":"DAY($T$24+4)","v":5},{"$f":"DAY($T$24+5)","v":6},{"$f":"DAY($T$24+6)","v":7},{"$f":"DAY($T$24+7)","v":8},{"$f":"DAY($T$24+8)","v":9},{"$f":"DAY($T$24+9)","v":10},{"$f":"DAY($T$24+10)","v":11},{"$f":"DAY($T$24+11)","v":12},{"$f":"DAY($T$24+12)","v":13},{"$f":"DAY($T$24+13)","v":14},{"$f":"DAY($T$24+14)","v":15},{"$f":"DAY($T$24+15)","v":16},{"$f":"DAY($T$24+16)","v":17},{"$f":"DAY($T$24+17)","v":18},{"$f":"DAY($T$24+18)","v":19},{"$f":"DAY($T$24+19)","v":20},{"$f":"DAY($T$24+20)","v":21},{"$f":"DAY($T$24+21)","v":22},{"$f":"DAY($T$24+22)","v":23},{"$f":"DAY($T$24+23)","v":24},{"$f":"DAY($T$24+24)","v":25},{"$f":"DAY($T$24+25)","v":26},{"$f":"DAY($T$24+26)","v":27},{"$f":"DAY($T$24+27)","v":28},{"$f":"IF(DAY(AB24)=29,29,IF(DAY(AB24)=AJ25,\"\",DAY(T24+28)))","v":29},{"$f":"IF(DAY(AB24)=29,\"\",IF(AK25=\"\",\"\",DAY(T24+29)))","v":30},{"$f":"IF(DAY(AB24)=29,\"\",IF(DAY(AB24)=28,\"\",IF(DAY(AB24)=30,\"\",DAY(T24+30))))","v":""},"調整","合計日数"]
[null,1,12345678901234,"職長","13-1234567",null,"▼▼　▼▼",null,1,1,null,null,1,1,1,1,1,null,null,1,1,1,1,1,null,null,1,1,1,1,1,null,null,1,1,1,1,1,null,2,{"$f":"SUM(I26:AN26)","v":{"v":24,"d":"24日"}},"○"]
[null,2,12345678901235,"班長","13-1234568",null,"◇◇　◇◇",null,1,1,null,null,1,1,1,1,1,null,null,1,1,1,1,1,null,null,1,1,1,1,1,null,null,1,1,1,1,1,null,{"v":-2,"d":"▲ 2"},{"v":20,"d":"20日"},"○"]
[null,3,12345678901236,"班長","13-1234569",null,"□□　□□",null,1,1,null,null,1,1,1,1,1,null,null,1,1,1,1,1,null,null,1,1,1,1,1,null,null,1,1,1,1,1,null,null,{"v":22,"d":"22日"},"○"]
[null,4,12345678901237,"　","13-1234570",null,"◆◆　◆◆",null,1,1,null,null,1,1,1,1,1,null,null,1,1,1,1,1,null,null,1,1,1,1,1,null,null,1,1,1,1,1,null,null,{"v":22,"d":"22日"},"○"]
[null,5,12345678901238,null,"13-1234571",null,"▽▽　▽▽",null,1,1,null,null,1,1,1,1,1,null,null,1,1,1,1,1,null,null,1,1,1,1,1,null,null,1,1,1,1,1,null,null,{"v":22,"d":"22日"},"○"]
[null,6,{"$nulls":38},{"v":0,"d":"0日"},"　"]
[null,7,null,"　",{"$nulls":36},{"v":0,"d":"0日"}]
[null,8,{"$nulls":38},{"v":0,"d":"0日"}]
[null,9,{"$nulls":38},{"v":0,"d":"0日"}]
[null,10,{"$nulls":38},{"v":0,"d":"0日"}]
[null,"　※　建設キャリアアップシステム登録技能者は、ＣＣＵＳ欄に「○」印を記載"]

{"sheet":"2事務受託様式４号","index":2,"n_rows":43,"n_cols":41,"rows_kept":43,"merged":[[1,0,1,36],[2,23,2,26],[2,27,2,36],[3,1,3,6],[3,7,3,9],[3,23,3,26],[3,27,3,36],[5,1,5,2],[5,4,5,25],[5,28,5,36],[6,1,6,2],[6,4,6,25],[6,28,7,29],[6,30,7,36],[7,1,7,2],[7,4,7,25],[8,1,8,2],[8,4,8,25],[8,28,10,29],[8,30,10,36],[9,1,9,2],[9,4,10,25],[10,1,10,2],[11,1,11,2],[11,4,12,25],[12,1,12,2],[13,1,13,2],[13,4,13,25],[13,28,13,36],[14,1,14,2],[14,4,15,25],[15,1,15,2],[16,1,16,2],[16,4,16,25],[18,1,18,2],[18,4,18,14],[18,15,18,21],[18,23,18,36],[19,1,19,2],[19,4,19,14],[19,15,19,21],[19,23,19,36],[21,8,21,11],[21,12,21,14],[21,15,21,21],[21,23,21,32],[22,0,23,0],[22,1,23,2],[22,3,23,3],[22,4,23,9],[22,10,23,15],[22,16,23,32],[22,33,22,36],[22,37,23,39],[23,33,23,36],[24,1,24,2],[24,4,24,9],[24,10,24,15],[24,16,24,32],[24,33,24,36],[24,37,24,39],[25,1,25,2],[25,4,25,9],[25,10,25,15],[25,16,25,32],[25,33,25,36],[25,37,25,39],[26,1,26,2],[26,4,26,9],[26,10,26,15],[26,16,26,32],[26,33,26,36],[26,37,26,39],[27,1,27,2],[27,4,27,9],[27,10,27,15],[27,16,27,32],[27,33,27,36],[27,37,27,39],[28,1,28,2],[28,4,28,9],[28,10,28,15],[28,16,28,32],[28,33,28,36],[28,37,28,39],[29,1,29,2],[29,4,29,9],[29,10,29,15],[29,16,29,32],[29,33,29,36],[29,37,29,39],[30,1,30,2],[30,4,30,9],[30,10,30,15],[30,16,30,32],[30,33,30,36],[30,37,30,39],[31,1,31,2],[31,4,31,9],[31,10,31,15],[31,16,31,32],[31,33,31,36],[31,37,31,39],[32,1,32,2],[32,4,32,9],[32,10,32,15],[32,16,32,32],[32,33,32,36],[32,37,32,39],[33,1,33,2],[33,4,33,9],[33,10,33,15],[33,16,33,32],[33,33,33,36],[33,37,33,39],[34,1,34,2],[34,4,34,9],[34,10,34,15],[34,16,34,32],[34,33,34,36],[34,37,34,39],[35,1,35,2],[35,4,35,9],[35,10,35,15],[35,16,35,32],[35,33,35,36],[35,37,35,39],[36,1,36,2],[36,4,36,9],[36,10,36,15],[36,16,36,32],[36,33,36,36],[36,37,36,39],[37,1,37,2],[37,4,37,9],[37,10,37,15],[37,16,37,32],[37,33,37,36],[37,37,37,39],[38,1,38,2],[38,4,38,9],[38,10,38,15],[38,16,38,32],[38,33,38,36],[38,37,38,39],[39,1,39,2],[39,4,39,9],[39,10,39,15],[39,16,39,32],[39,33,39,36],[39,37,39,39],[40,1,40,2],[40,4,40,9],[40,10,40,15],[40,16,40,32],[40,33,40,36],[40,37,40,39],[41,0,41,32],[41,33,41,36],[41,37,41,39]]}
["　　　建退共事務受託様式４号"]
["被共済者就労状況報告書（月別報告様式）"]
[{"$nulls":23},"整理番号",{"$nulls":3},{"$f":"IF('1事務受託様式第５号'!AH5=0,\"\",'1事務受託様式第５号'!AH5)","v":""}]
[null,{"$f":"IF('1事務受託様式第５号'!B6=0,\"\",'1事務受託様式第５号'!B6)","v":"四国土建株式会社"},{"$nulls":5},"殿",{"$nulls":15},"報告日",{"$nulls":3},{"$f":"IF('1事務受託様式第５号'!AH6=0,\"\",'1事務受託様式第５号'!AH6)","v":"2023-07-03"}]
[]
[null,"報告事業所名",null,null,{"$f":"IF('1事務受託様式第５号'!D8=0,\"\",'1事務受託様式第５号'!D8)","v":"●●株式会社"}]
[null,"住所〒",null,null,{"$f":"IF('1事務受託様式第５号'!D9=0,\"\",'1事務受託様式第５号'!D9)","v":"香川県○○市▲▲町１丁目１１番地"},{"$nulls":23},{"$f":"IF('1事務受託様式第５号'!AH9=\"○\",'1事務受託様式第５号'!AH9,\"\")","v":"○"},null,"掛金納付についての\n事務を委託します。"]
[null,"電話番号",null,null,{"$f":"IF('1事務受託様式第５号'!D10=0,\"\",'1事務受託様式第５号'!D10)","v":"0877-11-1111"}]
[null,"共済契約者\n番号",null,null,{"$f":"IF('1事務受託様式第５号'!D11=0,\"\",'1事務受託様式第５号'!D11)","v":"12-3456"},{"$nulls":23},{"$f":"IF('1事務受託様式第５号'!AH11=\"\",\"\",\"○\")","v":"○"},null,"就労実績の集計に建設\nキャリアアップシステムを\n活用しています。"]
[null,"建設キャリアアップシステム",null,null,{"$f":"IF('1事務受託様式第５号'!D12=0,\"\",'1事務受託様式第５号'!D12)","v":"34567890123456"}]
[null,"事業者ⅠD"]
[null,"工事番号および",null,null,{"$f":"IF('1事務受託様式第５号'!D14=0,\"\",'1事務受託様式第５号'!D14)","v":"12-第34号　　△△改修工事"}]
[null,"工事名"]
[null,"工事コード",null,null,{"$f":"IF('1事務受託様式第５号'!D15=0,\"\",'1事務受託様式第５号'!D15)","v":"99-999-9999号"},{"$nulls":23},"現場責任者確認"]
[null,"建設キャリアアップシステム",null,null,{"$f":"IF('1事務受託様式第５号'!D16=0,\"\",'1事務受託様式第５号'!D16)","v":"56789012345678"}]
[null,"現場ⅠD"]
[null,"備考",null,null,{"$f":"IF('1事務受託様式第５号'!D18=0,\"\",'1事務受託様式第５号'!D18)","v":""}]
[]
[null,"(共済契約者番号)",null,null,{"$f":"IF('1事務受託様式第５号'!D20=0,\"\",'1事務受託様式第５号'!D20)","v":"87-1242"},{"$nulls":10},"(共済契約者番号)",{"$nulls":7},{"$f":"IF('1事務受託様式第５号'!T20=0,\"\",'1事務受託様式第５号'!T20)","v":"12-3456"}]
[null,"元請事業所名",null,null,{"$f":"IF('1事務受託様式第５号'!D21=0,\"\",'1事務受託様式第５号'!D21)","v":"四国土建株式会社"},{"$nulls":10},"一次事業所名",{"$nulls":7},{"$f":"IF('1事務受託様式第５号'!T21=0,\"\",'1事務受託様式第５号'!T21)","v":"●●株式会社"}]
[]
[null,"次の表のとおり、就労実績を報告します。",{"$nulls":6},"報告期間：",{"$nulls":6},{"$f":"IF('1事務受託様式第５号'!T24=0,\"\",'1事務受託様式第５号'!T24)","v":"2023-06-01"},{"$nulls":6},"～",{"$f":"IF('1事務受託様式第５号'!AB24=0,\"\",'1事務受託様式第５号'!AB24)","v":"2023-06-30"}]
["No.","共済契約者番号",null,"項番","共済契約者名",{"$nulls":5},"被共済者番号",{"$nulls":5},"被共済者名",{"$nulls":16},"就労日数",{"$nulls":3},"CCUS"]
[{"$nulls":33},"320円"]
[1,{"$f":"IF(K25=\"\",\"\",$E$9)","v":"12-3456"},null,{"$f":"IF('1事務受託様式第５号'!$F26=\"\",\"\",'1事務受託様式第５号'!$F26)","v":""},{"$f":"IF(K25=\"\",\"\",$E$6)","v":"●●株式会社"},{"$nulls":5},{"$f":"IF('1事務受託様式第５号'!$E26=0,\"\",'1事務受託様式第５号'!$E26)","v":"13-1234567"},{"$nulls":5},{"$f":"IF('1事務受託様式第５号'!$G26=0,\"\",'1事務受託様式第５号'!$G26)","v":"▼▼　▼▼"},{"$nulls":16},{"$f":"IF('1事務受託様式第５号'!$AO26=0,\"\",'1事務受託様式第５号'!$AO26)","v":{"v":24,"d":"24日"}},{"$nulls":3},{"$f":"IF('1事務受託様式第５号'!$AP26=0,\"\",'1事務受託様式第５号'!$AP26)","v":"○"},null,null,{"$f":"IF(Q25=\"\",0,1)","v":1}]
[2,"12-3456",null,{"$f":"IF('1事務受託様式第５号'!$F27=\"\",\"\",'1事務受託様式第５号'!$F27)","v":""},{"$f":"IF(K26=\"\",\"\",$E$6)","v":"●●株式会社"},{"$nulls":5},{"$f":"IF('1事務受託様式第５号'!$E27=0,\"\",'1事務受託様式第５号'!$E27)","v":"13-1234568"},{"$nulls":5},{"$f":"IF('1事務受託様式第５号'!$G27=0,\"\",'1事務受託様式第５号'!$G27)","v":"◇◇　◇◇"},{"$nulls":16},{"$f":"IF('1事務受託様式第５号'!$AO27=0,\"\",'1事務受託様式第５号'!$AO27)","v":{"v":20,"d":"20日"}},{"$nulls":3},{"$f":"IF('1事務受託様式第５号'!$AP27=0,\"\",'1事務受託様式第５号'!$AP27)","v":"○"},null,null,{"$f":"IF(Q26=\"\",0,1)","v":1}]
[3,"12-3456",null,{"$f":"IF('1事務受託様式第５号'!$F28=\"\",\"\",'1事務受託様式第５号'!$F28)","v":""},"●●株式会社",{"$nulls":5},{"$f":"IF('1事務受託様式第５号'!$E28=0,\"\",'1事務受託様式第５号'!$E28)","v":"13-1234569"},{"$nulls":5},{"$f":"IF('1事務受託様式第５号'!$G28=0,\"\",'1事務受託様式第５号'!$G28)","v":"□□　□□"},{"$nulls":16},{"$f":"IF('1事務受託様式第５号'!$AO28=0,\"\",'1事務受託様式第５号'!$AO28)","v":{"v":22,"d":"22日"}},{"$nulls":3},{"$f":"IF('1事務受託様式第５号'!$AP28=0,\"\",'1事務受託様式第５号'!$AP28)","v":"○"},null,null,1]
[4,"12-3456",null,{"$f":"IF('1事務受託様式第５号'!$F29=\"\",\"\",'1事務受託様式第５号'!$F29)","v":""},"●●株式会社",{"$nulls":5},{"$f":"IF('1事務受託様式第５号'!$E29=0,\"\",'1事務受託様式第５号'!$E29)","v":"13-1234570"},{"$nulls":5},{"$f":"IF('1事務受託様式第５号'!$G29=0,\"\",'1事務受託様式第５号'!$G29)","v":"◆◆　◆◆"},{"$nulls":16},{"$f":"IF('1事務受託様式第５号'!$AO29=0,\"\",'1事務受託様式第５号'!$AO29)","v":{"v":22,"d":"22日"}},{"$nulls":3},{"$f":"IF('1事務受託様式第５号'!$AP29=0,\"\",'1事務受託様式第５号'!$AP29)","v":"○"},null,null,1]
[5,"12-3456",null,{"$f":"IF('1事務受託様式第５号'!$F30=\"\",\"\",'1事務受託様式第５号'!$F30)","v":""},"●●株式会社",{"$nulls":5},{"$f":"IF('1事務受託様式第５号'!$E30=0,\"\",'1事務受託様式第５号'!$E30)","v":"13-1234571"},{"$nulls":5},{"$f":"IF('1事務受託様式第５号'!$G30=0,\"\",'1事務受託様式第５号'!$G30)","v":"▽▽　▽▽"},{"$nulls":16},{"$f":"IF('1事務受託様式第５号'!$AO30=0,\"\",'1事務受託様式第５号'!$AO30)","v":{"v":22,"d":"22日"}},{"$nulls":3},{"$f":"IF('1事務受託様式第５号'!$AP30=0,\"\",'1事務受託様式第５号'!$AP30)","v":"○"},null,null,1]
[6,"",null,{"$f":"IF('1事務受託様式第５号'!$F31=\"\",\"\",'1事務受託様式第５号'!$F31)","v":""},"",{"$nulls":5},{"$f":"IF('1事務受託様式第５号'!$E31=0,\"\",'1事務受託様式第５号'!$E31)","v":""},{"$nulls":5},{"$f":"IF('1事務受託様式第５号'!$G31=0,\"\",'1事務受託様式第５号'!$G31)","v":""},{"$nulls":16},{"$f":"IF('1事務受託様式第５号'!$AO31=0,\"\",'1事務受託様式第５号'!$AO31)","v":""},{"$nulls":3},{"$f":"IF('1事務受託様式第５号'!$AP31=0,\"\",'1事務受託様式第５号'!$AP31)","v":"　"},null,null,0]
[7,"",null,{"$f":"IF('1事務受託様式第５号'!$F32=\"\",\"\",'1事務受託様式第５号'!$F32)","v":""},"",{"$nulls":5},{"$f":"IF('1事務受託様式第５号'!$E32=0,\"\",'1事務受託様式第５号'!$E32)","v":""},{"$nulls":5},{"$f":"IF('1事務受託様式第５号'!$G32=0,\"\",'1事務受託様式第５号'!$G32)","v":""},{"$nulls":16},{"$f":"IF('1事務受託様式第５号'!$AO32=0,\"\",'1事務受託様式第５号'!$AO32)","v":""},{"$nulls":3},{"$f":"IF('1事務受託様式第５号'!$AP32=0,\"\",'1事務受託様式第５号'!$AP32)","v":""},null,null,0]
[8,{"$f":"IF(K32=\"\",\"\",$E$9)","v":""},null,{"$f":"IF('1事務受託様式第５号'!$F33=\"\",\"\",'1事務受託様式第５号'!$F33)","v":""},"",{"$nulls":5},{"$f":"IF('1事務受託様式第５号'!$E33=0,\"\",'1事務受託様式第５号'!$E33)","v":""},{"$nulls":5},{"$f":"IF('1事務受託様式第５号'!$G33=0,\"\",'1事務受託様式第５号'!$G33)","v":""},{"$nulls":16},{"$f":"IF('1事務受託様式第５号'!$AO33=0,\"\",'1事務受託様式第５号'!$AO33)","v":""},{"$nulls":3},{"$f":"IF('1事務受託様式第５号'!$AP33=0,\"\",'1事務受託様式第５号'!$AP33)","v":""},null,null,0]
[9,"",null,{"$f":"IF('1事務受託様式第５号'!$F34=\"\",\"\",'1事務受託様式第５号'!$F34)","v":""},"",{"$nulls":5},{"$f":"IF('1事務受託様式第５号'!$E34=0,\"\",'1事務受託様式第５号'!$E34)","v":""},{"$nulls":5},{"$f":"IF('1事務受託様式第５号'!$G34=0,\"\",'1事務受託様式第５号'!$G34)","v":""},{"$nulls":16},{"$f":"IF('1事務受託様式第５号'!$AO34=0,\"\",'1事務受託様式第５号'!$AO34)","v":""},{"$nulls":3},{"$f":"IF('1事務受託様式第５号'!$AP34=0,\"\",'1事務受託様式第５号'!$AP34)","v":""},null,null,0]
[10,"",null,{"$f":"IF('1事務受託様式第５号'!$F35=\"\",\"\",'1事務受託様式第５号'!$F35)","v":""},"",{"$nulls":5},{"$f":"IF('1事務受託様式第５号'!$E35=0,\"\",'1事務受託様式第５号'!$E35)","v":""},{"$nulls":5},{"$f":"IF('1事務受託様式第５号'!$G35=0,\"\",'1事務受託様式第５号'!$G35)","v":""},{"$nulls":16},{"$f":"IF('1事務受託様式第５号'!$AO35=0,\"\",'1事務受託様式第５号'!$AO35)","v":""},{"$nulls":3},{"$f":"IF('1事務受託様式第５号'!$AP35=0,\"\",'1事務受託様式第５号'!$AP35)","v":""},null,null,0]
[null,"",null,{"$f":"IF('1事務受託様式第５号'!$F36=\"\",\"\",'1事務受託様式第５号'!$F36)","v":""},{"$f":"IF(K35=\"\",\"\",$E$6)","v":""},{"$nulls":5},{"$f":"IF('1事務受託様式第５号'!$E36=0,\"\",'1事務受託様式第５号'!$E36)","v":""},{"$nulls":5},{"$f":"IF('1事務受託様式第５号'!$G36=0,\"\",'1事務受託様式第５号'!$G36)","v":""},{"$nulls":20},{"$f":"IF('1事務受託様式第５号'!$AP36=0,\"\",'1事務受託様式第５号'!$AP36)","v":""},null,null,{"$f":"IF(Q35=\"\",0,1)","v":0}]
[null,"",null,{"$f":"IF('1事務受託様式第５号'!$F37=\"\",\"\",'1事務受託様式第５号'!$F37)","v":""},"",{"$nulls":5},{"$f":"IF('1事務受託様式第５号'!$E37=0,\"\",'1事務受託様式第５号'!$E37)","v":""},{"$nulls":5},{"$f":"IF('1事務受託様式第５号'!$G37=0,\"\",'1事務受託様式第５号'!$G37)","v":""},{"$nulls":16},{"$f":"IF('1事務受託様式第５号'!$AO36=0,\"\",'1事務受託様式第５号'!$AO36)","v":""},{"$nulls":3},{"$f":"IF('1事務受託様式第５号'!$AP37=0,\"\",'1事務受託様式第５号'!$AP37)","v":""},null,null,{"$f":"IF(Q36=\"\",0,1)","v":0}]
[null,"",null,{"$f":"IF('1事務受託様式第５号'!$F38=\"\",\"\",'1事務受託様式第５号'!$F38)","v":""},"",{"$nulls":5},{"$f":"IF('1事務受託様式第５号'!$E38=0,\"\",'1事務受託様式第５号'!$E38)","v":""},{"$nulls":5},{"$f":"IF('1事務受託様式第５号'!$G38=0,\"\",'1事務受託様式第５号'!$G38)","v":""},{"$nulls":16},{"$f":"IF('1事務受託様式第５号'!$AO37=0,\"\",'1事務受託様式第５号'!$AO37)","v":""},{"$nulls":3},{"$f":"IF('1事務受託様式第５号'!$AP38=0,\"\",'1事務受託様式第５号'!$AP38)","v":""},null,null,0]
[null,"",null,{"$f":"IF('1事務受託様式第５号'!$F39=\"\",\"\",'1事務受託様式第５号'!$F39)","v":""},"",{"$nulls":5},{"$f":"IF('1事務受託様式第５号'!$E39=0,\"\",'1事務受託様式第５号'!$E39)","v":""},{"$nulls":5},{"$f":"IF('1事務受託様式第５号'!$G39=0,\"\",'1事務受託様式第５号'!$G39)","v":""},{"$nulls":16},{"$f":"IF('1事務受託様式第５号'!$AO38=0,\"\",'1事務受託様式第５号'!$AO38)","v":""},{"$nulls":3},{"$f":"IF('1事務受託様式第５号'!$AP39=0,\"\",'1事務受託様式第５号'!$AP39)","v":""},null,null,0]
[null,"",null,{"$f":"IF('1事務受託様式第５号'!$F40=\"\",\"\",'1事務受託様式第５号'!$F40)","v":""},"",{"$nulls":5},{"$f":"IF('1事務受託様式第５号'!$E40=0,\"\",'1事務受託様式第５号'!$E40)","v":""},{"$nulls":5},{"$f":"IF('1事務受託様式第５号'!$G40=0,\"\",'1事務受託様式第５号'!$G40)","v":""},{"$nulls":16},{"$f":"IF('1事務受託様式第５号'!$AO39=0,\"\",'1事務受託様式第５号'!$AO39)","v":""},{"$nulls":3},{"$f":"IF('1事務受託様式第５号'!$AP40=0,\"\",'1事務受託様式第５号'!$AP40)","v":""},null,null,0]
[null,"",null,{"$f":"IF('1事務受託様式第５号'!$F41=\"\",\"\",'1事務受託様式第５号'!$F41)","v":""},"",{"$nulls":5},{"$f":"IF('1事務受託様式第５号'!$E41=0,\"\",'1事務受託様式第５号'!$E41)","v":""},{"$nulls":5},{"$f":"IF('1事務受託様式第５号'!$G41=0,\"\",'1事務受託様式第５号'!$G41)","v":""},{"$nulls":16},{"$f":"IF('1事務受託様式第５号'!$AO40=0,\"\",'1事務受託様式第５号'!$AO40)","v":""},{"$nulls":3},{"$f":"IF('1事務受託様式第５号'!$AP41=0,\"\",'1事務受託様式第５号'!$AP41)","v":""},null,null,0]
[null,"",null,{"$f":"IF('1事務受託様式第５号'!$F42=\"\",\"\",'1事務受託様式第５号'!$F42)","v":""},"",{"$nulls":5},{"$f":"IF('1事務受託様式第５号'!$E42=0,\"\",'1事務受託様式第５号'!$E42)","v":""},{"$nulls":5},{"$f":"IF('1事務受託様式第５号'!$G42=0,\"\",'1事務受託様式第５号'!$G42)","v":""},{"$nulls":16},{"$f":"IF('1事務受託様式第５号'!$AO41=0,\"\",'1事務受託様式第５号'!$AO41)","v":""},{"$nulls":3},{"$f":"IF('1事務受託様式第５号'!$AP42=0,\"\",'1事務受託様式第５号'!$AP42)","v":""},null,null,{"$f":"IF(Q41=\"\",0,1)","v":0}]
["総合計",{"$nulls":32},{"$f":"SUM(AH25:AK41)","v":110},{"$nulls":3},{"$f":"COUNTIF(AL25:AN41,\"○\")","v":5},null,null,{"$f":"SUM(AO25:AO41)","v":5}]
[{"$nulls":4},"※　建設キャリアアップシステム登録技能者は、ＣＣＵＳ欄に「○」印を記載"]

{"sheet":"3共済契約者別一覧","index":3,"n_rows":37,"n_cols":32,"rows_kept":37,"merged":[[1,0,1,36],[2,23,2,26],[2,27,2,36],[3,1,3,20],[3,23,3,26],[3,27,3,36],[5,1,5,2],[5,4,5,23],[5,28,7,29],[5,30,7,35],[6,1,6,2],[6,4,6,23],[7,1,7,2],[7,4,7,23],[8,1,8,2],[8,4,8,23],[9,1,9,2],[9,4,10,25],[10,1,10,2],[10,28,10,36],[11,1,11,2],[11,4,11,23],[12,1,12,2],[12,4,12,23],[12,35,12,36],[14,1,14,2],[14,4,14,14],[14,15,14,21],[14,23,14,36],[15,1,15,2],[15,4,15,14],[15,15,15,21],[15,23,15,36],[17,8,17,11],[17,12,17,21],[17,24,17,33],[17,38,17,40],[18,0,19,0],[18,1,19,2],[18,3,19,3],[18,4,19,24],[18,25,19,30],[18,31,19,36],[20,1,20,2],[20,4,20,24],[20,25,20,30],[20,31,20,36],[21,1,21,2],[21,4,21,24],[21,25,21,30],[21,31,21,36],[22,1,22,2],[22,4,22,24],[22,25,22,30],[22,31,22,36],[23,1,23,2],[23,4,23,24],[23,25,23,30],[23,31,23,36],[24,1,24,2],[24,4,24,24],[24,25,24,30],[24,31,24,36],[25,1,25,2],[25,4,25,24],[25,25,25,30],[25,31,25,36],[26,1,26,2],[26,4,26,24],[26,25,26,30],[26,31,26,36],[27,1,27,2],[27,4,27,24],[27,25,27,30],[27,31,27,36],[28,1,28,2],[28,4,28,24],[28,25,28,30],[28,31,28,36],[29,1,29,2],[29,4,29,24],[29,25,29,30],[29,31,29,36],[30,1,30,2],[30,4,30,24],[30,25,30,30],[30,31,30,36],[31,1,31,2],[31,4,31,24],[31,25,31,30],[31,31,31,36],[32,1,32,2],[32,4,32,24],[32,25,32,30],[32,31,32,36],[33,1,33,2],[33,4,33,24],[33,25,33,30],[33,31,33,36],[34,1,34,2],[34,4,34,24],[34,25,34,30],[34,31,34,36],[35,1,35,2],[35,4,35,24],[35,25,35,30],[35,31,35,36],[36,0,36,24],[36,25,36,30],[36,31,36,36]]}
[]
["建退共制度に係る被共済者就労状況報告書（共済契約者別一覧）"]
[{"$nulls":23},"整理番号",{"$nulls":3},{"$f":"IF('2事務受託様式４号'!AB3=0,\"\",'2事務受託様式４号'!AB3)","v":""}]
[null,"",{"$nulls":21},"報告日",{"$nulls":3},{"$f":"IF('2事務受託様式４号'!AB4=0,\"\",'2事務受託様式４号'!AB4)","v":"2023-07-03"}]
[]
[null,"報告事業所名",null,null,{"$f":"IF('2事務受託様式４号'!E6=0,\"\",'2事務受託様式４号'!E6)","v":"●●株式会社"},{"$nulls":23},"○",null,"下表の共済契約者\n（下請負人）から\n掛金納付についての\n事務を受託しました。"]
[null,"住所〒",null,null,{"$f":"IF('2事務受託様式４号'!E7=0,\"\",'2事務受託様式４号'!E7)","v":"香川県○○市▲▲町１丁目１１番地"}]
[null,"電話番号",null,null,{"$f":"IF('2事務受託様式４号'!E8=0,\"\",'2事務受託様式４号'!E8)","v":"0877-11-1111"}]
[null,"共済契約者\n番号",null,null,{"$f":"IF('2事務受託様式４号'!E9=0,\"\",'2事務受託様式４号'!E9)","v":"12-3456"}]
[null,"工事番号および",null,null,{"$f":"IF('2事務受託様式４号'!E12=0,\"\",'2事務受託様式４号'!E12)","v":"12-第34号　　△△改修工事"}]
[null,"工事名",{"$nulls":26},"現場責任者確認"]
[null,"工事コード",null,null,{"$f":"IF('2事務受託様式４号'!E14=0,\"\",'2事務受託様式４号'!E14)","v":"99-999-9999号"}]
[null,"備考",null,null,{"$f":"IF('2事務受託様式４号'!E17=0,\"\",'2事務受託様式４号'!E17)","v":""}]
[]
[null,"(共済契約者番号)",null,null,{"$f":"IF('2事務受託様式４号'!E19=0,\"\",'2事務受託様式４号'!E19)","v":"87-1242"},{"$nulls":10},"(共済契約者番号)",{"$nulls":7},{"$f":"IF('2事務受託様式４号'!X19=0,\"\",'2事務受託様式４号'!X19)","v":"12-3456"}]
[null,"元請事業所名",null,null,{"$f":"IF('2事務受託様式４号'!E20=0,\"\",'2事務受託様式４号'!E20)","v":"四国土建株式会社"},{"$nulls":10},"一次事業所名",{"$nulls":7},{"$f":"IF('2事務受託様式４号'!X20=0,\"\",'2事務受託様式４号'!X20)","v":"●●株式会社"}]
[]
[null,"次の表のとおり、就労実績を報告します。",{"$nulls":6},"報告期間：",{"$nulls":3},{"$f":"IF('2事務受託様式４号'!P22=0,\"\",'2事務受託様式４号'!P22)","v":"2023-06-01"},{"$nulls":9},"～",null,{"$f":"IF('2事務受託様式４号'!X22=0,\"\",'2事務受託様式４号'!X22)","v":"2023-06-30"}]
["No.","共済契約者番号",null,"項番","共済契約者名",{"$nulls":20},"被共済者数",{"$nulls":5},"延べ就労日数"]
[]
["1",{"$f":"IF('2事務受託様式４号'!E9=0,\"\",'2事務受託様式４号'!E9)","v":"12-3456"},null,null,{"$f":"IF('2事務受託様式４号'!E6=0,\"\",'2事務受託様式４号'!E6)","v":"●●株式会社"},{"$nulls":20},{"$f":"'2事務受託様式４号'!AO42","v":5},{"$nulls":5},{"$f":"'2事務受託様式４号'!AH42","v":110}]
["2","34-5678",null,null,"◎◎株式会社",{"$nulls":20},5,{"$nulls":5},110]
["3","56-7890",null,null,"■■株式会社",{"$nulls":20},2,{"$nulls":5},44]
["4"]
["5"]
["6"]
["7"]
["8"]
["9"]
["10"]
["11"]
["12"]
["13"]
["14"]
["15"]
["16"]
["総合計　",{"$nulls":24},{"$f":"SUM(Z21:AE36)","v":12},{"$nulls":5},{"$f":"SUM(AF21:AK36)","v":264}]

{"sheet":"4事務受託様式２号","index":4,"n_rows":61,"n_cols":29,"rows_kept":61,"merged":[[4,1,4,29],[5,1,5,29],[7,24,7,29],[8,21,8,29],[11,1,11,2],[12,1,12,5],[12,6,12,20],[15,7,15,10],[15,11,15,29],[16,7,16,10],[16,11,16,29],[17,7,17,10],[17,11,17,29],[18,7,18,10],[18,11,18,29],[19,7,19,10],[19,11,20,29],[20,7,20,10],[21,7,21,10],[21,11,22,29],[22,7,22,10],[23,7,23,10],[23,11,23,29],[24,7,24,10],[24,11,25,29],[25,7,25,10],[31,5,31,11],[31,14,31,20],[31,24,31,29],[33,6,33,8],[33,16,33,18],[39,1,39,29],[41,24,41,29],[44,1,44,5],[44,6,44,20],[46,13,47,17],[49,13,50,17],[55,22,55,23],[57,25,57,29],[58,25,60,29],[59,15,60,24]]}
[null,"建退共事務受託様式２号"]
[]
[]
[]
[null,"建退共制度に係る被共済者就労状況報告書"]
[null,"（兼建設業退職金共済証紙交付依頼書）"]
[]
[{"$nulls":21},"整理番号",null,null,{"$f":"IF('2事務受託様式４号'!AB3=0,\"\",'2事務受託様式４号'!AB3)","v":""}]
[{"$nulls":21},{"$f":"IF('2事務受託様式４号'!AB4=0,\"\",'2事務受託様式４号'!AB4)","v":"2023-07-03"}]
[]
[]
[]
[null,"交付元事業所",{"$nulls":4},{"$f":"IF('2事務受託様式４号'!B4=0,\"\",'2事務受託様式４号'!B4&\"　　殿\")","v":"四国土建株式会社　　殿"}]
[]
[]
[{"$nulls":7},"報告事業所",{"$nulls":3},{"$f":"IF('2事務受託様式４号'!E6=0,\"\",'2事務受託様式４号'!E6)","v":"●●株式会社"}]
[{"$nulls":7},"　　住　　所　　〒",{"$nulls":3},{"$f":"IF('2事務受託様式４号'!E7=0,\"\",'2事務受託様式４号'!E7)","v":"香川県○○市▲▲町１丁目１１番地"}]
[{"$nulls":7},"電 話 番 号",{"$nulls":3},{"$f":"IF('2事務受託様式４号'!E8=0,\"\",'2事務受託様式４号'!E8)","v":"0877-11-1111"}]
[{"$nulls":7},"共済契約者\n番　　　　号",{"$nulls":3},{"$f":"IF('2事務受託様式４号'!E9=0,\"\",'2事務受託様式４号'!E9)","v":"12-3456"}]
[{"$nulls":7},"建設キャリアアップシステム",{"$nulls":3},{"$f":"IF('2事務受託様式４号'!E10=0,\"\",'2事務受託様式４号'!E10)","v":"34567890123456"}]
[{"$nulls":7},"事業者ⅠD"]
[{"$nulls":7},"工事番号および",{"$nulls":3},{"$f":"IF('2事務受託様式４号'!E12=0,\"\",'2事務受託様式４号'!E12)","v":"12-第34号　　△△改修工事"}]
[{"$nulls":7},"工   事   名"]
[{"$nulls":7},"工 事 コード",{"$nulls":3},{"$f":"IF('2事務受託様式４号'!E14=0,\"\",'2事務受託様式４号'!E14)","v":"99-999-9999号"}]
[{"$nulls":7},"建設キャリアアップシステム",{"$nulls":3},{"$f":"IF('2事務受託様式４号'!E15=0,\"\",'2事務受託様式４号'!E15)","v":"56789012345678"}]
[{"$nulls":7},"現 場 Ⅰ D"]
[]
[null,null,"以下のとおり報告します。"]
[]
[{"$nulls":12},"記"]
[]
[null,null,"期　間",null,null,{"$f":"IF('2事務受託様式４号'!P22=0,\"\",'2事務受託様式４号'!P22)","v":"2023-06-01"},{"$nulls":6},"～",null,{"$f":"IF('2事務受託様式４号'!X22=0,\"\",'2事務受託様式４号'!X22)","v":"2023-06-30"},{"$nulls":9},"現場責任者確認"]
[]
[null,null,"被共済者数",{"$nulls":3},{"$f":"'3共済契約者別一覧'!Z37","v":{"v":12,"d":"12 "}},null,null,"人",null,"延べ就労日数",{"$nulls":4},{"$f":"'3共済契約者別一覧'!AF37","v":{"v":264,"d":"264 "}},null,null,"日"]
[]
[]
[]
[]
[]
[null,"建 設 業 退 職 金 共 済 証 紙 受 領 書"]
[]
[{"$nulls":21},"整理番号",null,null,{"$f":"IF('2事務受託様式４号'!AB3=0,\"\",'2事務受託様式４号'!AB3)","v":""}]
[]
[]
[null,"交付元事業所",{"$nulls":4},{"$f":"IF('2事務受託様式４号'!B4=0,\"\",'2事務受託様式４号'!B4&\"　　殿\")","v":"四国土建株式会社　　殿"}]
[]
[{"$nulls":13},{"v":104,"d":"104 "}]
[{"$nulls":10},"１日券",{"$nulls":7},"枚"]
[]
[{"$nulls":13},{"v":16,"d":"16 "}]
[{"$nulls":10},"１０日券",{"$nulls":7},"枚",{"$nulls":3},{"$f":"IF(AND(N47=\"\",N50=\"\"),\"\",IF(Q34=(N47+(N50*10)),\"\",\"請求に対する受領枚数エラー\"))","v":""}]
[]
[]
[null,null,"上記の共済証紙を受領いたしました。"]
[]
[{"$nulls":22},2023,null,"年",7,"月",4,"日"]
[]
[{"$nulls":25},"受領者確認"]
[]
[{"$nulls":15},{"$f":"IF('2事務受託様式４号'!E6=0,\"\",'2事務受託様式４号'!E6)","v":"●●株式会社"}]
[{"$nulls":11},"報告事業所"]

{"sheet":"5事務受託様式3号","index":5,"n_rows":61,"n_cols":51,"rows_kept":61,"merged":[[2,0,2,50],[4,43,4,44],[6,0,6,5],[6,7,6,23],[6,26,6,32],[6,34,6,50],[7,0,7,5],[7,7,7,24],[7,26,7,32],[7,34,7,50],[8,0,9,5],[8,7,9,24],[8,26,9,32],[8,34,9,50],[10,0,11,5],[10,7,11,24],[10,39,10,40],[10,42,10,43],[10,45,10,46],[11,42,11,43],[12,0,12,5],[12,7,12,8],[12,20,12,21],[12,39,12,40],[12,42,12,43],[12,45,12,46],[14,12,14,13],[16,0,16,10],[16,11,16,24],[16,25,16,46],[16,47,17,50],[17,0,17,5],[17,6,17,10],[17,11,17,16],[17,17,17,20],[17,21,17,24],[17,25,17,30],[17,31,17,38],[17,39,17,42],[17,43,17,46],[18,31,20,38],[19,0,20,0],[19,1,20,1],[19,2,20,2],[19,3,20,3],[19,4,20,4],[19,5,20,5],[19,6,20,10],[19,11,20,11],[19,12,20,12],[19,13,20,13],[19,14,20,14],[19,15,20,15],[19,16,20,16],[19,17,20,20],[19,21,20,24],[19,25,20,25],[19,26,20,26],[19,27,20,27],[19,28,20,28],[19,29,20,29],[19,30,20,30],[19,39,20,42],[19,43,20,46],[19,47,20,50],[21,31,23,38],[22,0,23,0],[22,1,23,1],[22,2,23,2],[22,3,23,3],[22,4,23,4],[22,5,23,5],[22,6,23,10],[22,11,23,11],[22,12,23,12],[22,13,23,13],[22,14,23,14],[22,15,23,15],[22,16,23,16],[22,17,23,20],[22,21,23,24],[22,25,23,25],[22,26,23,26],[22,27,23,27],[22,28,23,28],[22,29,23,29],[22,30,23,30],[22,39,23,42],[22,43,23,46],[22,47,23,50],[24,31,26,38],[25,0,26,0],[25,1,26,1],[25,2,26,2],[25,3,26,3],[25,4,26,4],[25,5,26,5],[25,6,26,10],[25,11,26,11],[25,12,26,12],[25,13,26,13],[25,14,26,14],[25,15,26,15],[25,16,26,16],[25,17,26,20],[25,21,26,24],[25,25,26,25],[25,26,26,26],[25,27,26,27],[25,28,26,28],[25,29,26,29],[25,30,26,30],[25,39,26,42],[25,43,26,46],[25,47,26,50],[27,31,29,38],[28,0,29,0],[28,1,29,1],[28,2,29,2],[28,3,29,3],[28,4,29,4],[28,5,29,5],[28,6,29,10],[28,11,29,11],[28,12,29,12],[28,13,29,13],[28,14,29,14],[28,15,29,15],[28,16,29,16],[28,17,29,20],[28,21,29,24],[28,25,29,25],[28,26,29,26],[28,27,29,27],[28,28,29,28],[28,29,29,29],[28,30,29,30],[28,39,29,42],[28,43,29,46],[28,47,29,50],[30,31,32,38],[31,0,32,0],[31,1,32,1],[31,2,32,2],[31,3,32,3],[31,4,32,4],[31,5,32,5],[31,6,32,10],[31,11,32,11],[31,12,32,12],[31,13,32,13],[31,14,32,14],[31,15,32,15],[31,16,32,16],[31,17,32,20],[31,21,32,24],[31,25,32,25],[31,26,32,26],[31,27,32,27],[31,28,32,28],[31,29,32,29],[31,30,32,30],[31,39,32,42],[31,43,32,46],[31,47,32,50],[33,31,35,38],[34,0,35,0],[34,1,35,1],[34,2,35,2],[34,3,35,3],[34,4,35,4],[34,5,35,5],[34,6,35,10],[34,11,35,11],[34,12,35,12],[34,13,35,13],[34,14,35,14],[34,15,35,15],[34,16,35,16],[34,17,35,20],[34,21,35,24],[34,25,35,25],[34,26,35,26],[34,27,35,27],[34,28,35,28],[34,29,35,29],[34,30,35,30],[34,39,35,42],[34,43,35,46],[34,47,35,50],[36,31,38,38],[37,0,38,0],[37,1,38,1],[37,2,38,2],[37,3,38,3],[37,4,38,4],[37,5,38,5],[37,6,38,10],[37,11,38,11],[37,12,38,12],[37,13,38,13],[37,14,38,14],[37,15,38,15],[37,16,38,16],[37,17,38,20],[37,21,38,24],[37,25,38,25],[37,26,38,26],[37,27,38,27],[37,28,38,28],[37,29,38,29],[37,30,38,30],[37,39,38,42],[37,43,38,46],[37,47,38,50],[39,31,41,38],[40,0,41,0],[40,1,41,1],[40,2,41,2],[40,3,41,3],[40,4,41,4],[40,5,41,5],[40,6,41,10],[40,11,41,11],[40,12,41,12],[40,13,41,13],[40,14,41,14],[40,15,41,15],[40,16,41,16],[40,17,41,20],[40,21,41,24],[40,25,41,25],[40,26,41,26],[40,27,41,27],[40,28,41,28],[40,29,41,29],[40,30,41,30],[40,39,41,42],[40,43,41,46],[40,47,41,50],[42,31,44,38],[43,0,44,0],[43,1,44,1],[43,2,44,2],[43,3,44,3],[43,4,44,4],[43,5,44,5],[43,6,44,10],[43,11,44,11],[43,12,44,12],[43,13,44,13],[43,14,44,14],[43,15,44,15],[43,16,44,16],[43,17,44,20],[43,21,44,24],[43,25,44,25],[43,26,44,26],[43,27,44,27],[43,28,44,28],[43,29,44,29],[43,30,44,30],[43,39,44,42],[43,43,44,46],[43,47,44,50],[45,31,47,38],[46,0,47,0],[46,1,47,1],[46,2,47,2],[46,3,47,3],[46,4,47,4],[46,5,47,5],[46,6,47,10],[46,11,47,11],[46,12,47,12],[46,13,47,13],[46,14,47,14],[46,15,47,15],[46,16,47,16],[46,17,47,20],[46,21,47,24],[46,25,47,25],[46,26,47,26],[46,27,47,27],[46,28,47,28],[46,29,47,29],[46,30,47,30],[46,39,47,42],[46,43,47,46],[46,47,47,50],[48,31,50,38],[49,0,50,5],[49,6,50,10],[49,11,50,16],[49,17,50,20],[49,21,50,24],[49,25,50,30],[49,39,50,42],[49,43,50,46],[49,47,50,50],[54,17,56,20],[54,21,56,24],[57,17,59,20],[57,21,59,24],[60,17,62,20],[60,21,62,24]]}
["建退共事務受託様式第３号"]
[]
["建　設　業　退　職　金　共　済　証　紙　貼　付　状　況　報　告　書"]
[]
[{"$nulls":39},"報告日",{"$nulls":3},2023,null,"年",8,"月",7,"日"]
[]
["元　　　請　　　名",{"$nulls":6},{"$f":"IF('1事務受託様式第５号'!B6=0,\"\",'1事務受託様式第５号'!B6)","v":"四国土建株式会社"},{"$nulls":16},"殿",null,"共済契約者（下請）名",{"$nulls":7},{"$f":"IF('4事務受託様式２号'!L16=0,\"\",'4事務受託様式２号'!L16)","v":"●●株式会社"}]
["工事番号および\n工事名",{"$nulls":6},{"$f":"IF('4事務受託様式２号'!L22=0,\"\",'4事務受託様式２号'!L22)","v":"12-第34号　　△△改修工事"},{"$nulls":18},"共済契約者番号",{"$nulls":7},{"$f":"IF('4事務受託様式２号'!L19=0,\"\",'4事務受託様式２号'!L19)","v":"12-3456"}]
["工　事　コ　ー　ド",{"$nulls":6},{"$f":"IF('4事務受託様式２号'!L24=0,\"\",'4事務受託様式２号'!L24)","v":"99-999-9999号"},{"$nulls":18},"建設キャリアアップシステム\n事業者I D",{"$nulls":7},{"$f":"IF('4事務受託様式２号'!L20=0,\"\",'4事務受託様式２号'!L20)","v":"34567890123456"}]
[]
["建設キャリアアップシステム\n現場I D",{"$nulls":6},{"$f":"IF('4事務受託様式２号'!L25=0,\"\",'4事務受託様式２号'!L25)","v":"56789012345678"},{"$nulls":31},2023,null,"年",6,null,"月",1,null,"日"]
[{"$nulls":26},"工　　　　　　　期",{"$nulls":15},"～"]
["被　共　済　者　数",{"$nulls":6},{"$f":"IF(R61=0,\"\",R61)","v":{"v":24,"d":"24 "}},null,"人",{"$nulls":5},"延べ就労日数",{"$nulls":4},{"$f":"IF(V61=0,\"\",V61)","v":{"v":528,"d":"528 "}},null,"日",{"$nulls":16},2023,null,"年",7,null,"月",28,null,"日"]
[]
[null,"＜",null,"月分＞　もしくは　＜工事終了日",{"$nulls":8},2023,null,"年",7,"月",28,"日＞"]
[]
["受　　　　　入",{"$nulls":10},"貼　　　　　　付",{"$nulls":13},"払　　　　　　　　　出",{"$nulls":21},"証紙残枚数"]
["受入年月日",{"$nulls":5},"受入枚数",{"$nulls":4},"貼付年月日",{"$nulls":5},"被共済者数",{"$nulls":3},"共済手帳への証紙貼付枚数",{"$nulls":3},"払出年月日",{"$nulls":5},"下　　請　　名",{"$nulls":7},"被共済者数",{"$nulls":3},"払出枚数"]
[{"$nulls":10},"枚",{"$nulls":9},"人",{"$nulls":3},"枚",{"$nulls":6},"◎◎株式会社",{"$nulls":10},"人",{"$nulls":3},"枚",{"$nulls":3},"枚"]
[2023,"年",7,"月",4,"日",{"v":264,"d":"264 "},{"$nulls":4},2023,"年",7,"月",5,"日",{"v":5,"d":"5 "},{"$nulls":3},{"v":110,"d":"110 "},{"$nulls":3},2023,"年",7,"月",5,"日",{"$nulls":8},{"v":5,"d":"5 "},{"$nulls":3},{"v":110,"d":"110 "},{"$nulls":3},{"$f":"IF(E20=\"\",\"\",G20-V20-AR20)","v":{"v":44,"d":"44 "}}]
[]
[{"$nulls":10},"枚",{"$nulls":9},"人",{"$nulls":3},"枚",{"$nulls":6},"■■株式会社",{"$nulls":10},"人",{"$nulls":3},"枚",{"$nulls":3},"枚"]
[null,"年",null,"月",null,"日",{"$nulls":6},"年",null,"月",null,"日",{"$nulls":8},2023,"年",7,"月",6,"日",{"$nulls":8},{"v":2,"d":"2 "},{"$nulls":3},{"v":44,"d":"44 "},{"$nulls":3},{"$f":"IF(AND(E23=\"\",P23=\"\",AD23=\"\"),\"\",AV20+G23-V23-AR23)","v":{"v":0,"d":"0 "}}]
[]
[{"$nulls":10},"枚",{"$nulls":9},"人",{"$nulls":3},"枚",{"$nulls":6},"◎◎株式会社",{"$nulls":10},"人",{"$nulls":3},"枚",{"$nulls":3},"枚"]
[2023,"年",8,"月",1,"日",{"v":264,"d":"264 "},{"$nulls":4},2023,"年",8,"月",2,"日",{"v":5,"d":"5 "},{"$nulls":3},{"v":110,"d":"110 "},{"$nulls":3},2023,"年",8,"月",2,"日",{"$nulls":8},{"v":5,"d":"5 "},{"$nulls":3},{"v":110,"d":"110 "},{"$nulls":3},{"$f":"IF(AND(E26=\"\",P26=\"\",AD26=\"\"),\"\",AV23+G26-V26-AR26)","v":{"v":44,"d":"44 "}}]
[]
[{"$nulls":10},"枚",{"$nulls":9},"人",{"$nulls":3},"枚",{"$nulls":6},"■■株式会社",{"$nulls":10},"人",{"$nulls":3},"枚",{"$nulls":3},"枚"]
[null,"年",null,"月",null,"日",{"$nulls":6},"年",null,"月",null,"日",{"$nulls":8},2023,"年",8,"月",3,"日",{"$nulls":8},{"v":2,"d":"2 "},{"$nulls":3},{"v":44,"d":"44 "},{"$nulls":3},{"$f":"IF(AND(E29=\"\",P29=\"\",AD29=\"\"),\"\",AV26+G29-V29-AR29)","v":{"v":0,"d":"0 "}}]
[]
[{"$nulls":10},"枚",{"$nulls":9},"人",{"$nulls":3},"枚",{"$nulls":17},"人",{"$nulls":3},"枚",{"$nulls":3},"枚"]
[null,"年",null,"月",null,"日",{"$nulls":6},"年",null,"月",null,"日",{"$nulls":9},"年",null,"月",null,"日",{"$nulls":16},{"$f":"IF(AND(E32=\"\",P32=\"\",AD32=\"\"),\"\",AV29+G32-V32-AR32)","v":""}]
[]
[{"$nulls":10},"枚",{"$nulls":9},"人",{"$nulls":3},"枚",{"$nulls":17},"人",{"$nulls":3},"枚",{"$nulls":3},"枚"]
[null,"年",null,"月",null,"日",{"$nulls":6},"年",null,"月",null,"日",{"$nulls":9},"年",null,"月",null,"日",{"$nulls":16},{"$f":"IF(AND(E35=\"\",P35=\"\",AD35=\"\"),\"\",AV32+G35-V35-AR35)","v":""}]
[]
[{"$nulls":10},"枚",{"$nulls":9},"人",{"$nulls":3},"枚",{"$nulls":17},"人",{"$nulls":3},"枚",{"$nulls":3},"枚"]
[null,"年",null,"月",null,"日",{"$nulls":6},"年",null,"月",null,"日",{"$nulls":9},"年",null,"月",null,"日",{"$nulls":16},{"$f":"IF(AND(E38=\"\",P38=\"\",AD38=\"\"),\"\",AV35+G38-V38-AR38)","v":""}]
[]
[{"$nulls":10},"枚",{"$nulls":9},"人",{"$nulls":3},"枚",{"$nulls":17},"人",{"$nulls":3},"枚",{"$nulls":3},"枚"]
[null,"年",null,"月",null,"日",{"$nulls":6},"年",null,"月",null,"日",{"$nulls":9},"年",null,"月",null,"日",{"$nulls":16},{"$f":"IF(AND(E41=\"\",P41=\"\",AD41=\"\"),\"\",AV38+G41-V41-AR41)","v":""}]
[]
[{"$nulls":10},"枚",{"$nulls":9},"人",{"$nulls":3},"枚",{"$nulls":17},"人",{"$nulls":3},"枚",{"$nulls":3},"枚"]
[null,"年",null,"月",null,"日",{"$nulls":6},"年",null,"月",null,"日",{"$nulls":9},"年",null,"月",null,"日",{"$nulls":16},{"$f":"IF(AND(E44=\"\",P44=\"\",AD44=\"\"),\"\",AV41+G44-V44-AR44)","v":""}]
[]
[{"$nulls":10},"枚",{"$nulls":9},"人",{"$nulls":3},"枚",{"$nulls":17},"人",{"$nulls":3},"枚",{"$nulls":3},"枚"]
[null,"年",null,"月",null,"日",{"$nulls":6},"年",null,"月",null,"日",{"$nulls":9},"年",null,"月",null,"日",{"$nulls":16},{"$f":"IF(AND(E47=\"\",P47=\"\",AD47=\"\"),\"\",AV44+G47-V47-AR47)","v":""}]
[]
[{"$nulls":10},"枚",{"$nulls":9},"人",{"$nulls":3},"枚",{"$nulls":17},"人",{"$nulls":3},"枚"]
["合　　　　計",{"$nulls":5},{"$f":"IF(SUM(G20,G23,G26,G29,G32,G35,G38,G41,G44,G47)=0,\"\",SUM(G20,G23,G26,G29,G32,G35,G38,G41,G44,G47))","v":{"v":528,"d":"528 "}},{"$nulls":4},"合　　　　計",{"$nulls":5},{"$f":"IF(SUM(R20,R23,R26,R29,R32,R35,R38,R41,R44,R47)=0,\"\",SUM(R20,R23,R26,R29,R32,R35,R38,R41,R44,R47))","v":{"v":10,"d":"10 "}},{"$nulls":3},{"$f":"IF(SUM(V20,V23,V26,V29,V32,V35,V38,V41,V44,V47)=0,\"\",SUM(V20,V23,V26,V29,V32,V35,V38,V41,V44,V47))","v":{"v":220,"d":"220 "}},{"$nulls":3},"合　　　　計",{"$nulls":13},{"$f":"IF(SUM(AN20,AN23,AN26,AN29,AN32,AN35,AN38,AN41,AN44,AN47)=0,\"\",SUM(AN20,AN23,AN26,AN29,AN32,AN35,AN38,AN41,AN44,AN47))","v":{"v":14,"d":"14 "}},{"$nulls":3},{"$f":"IF(SUM(AR20,AR23,AR26,AR29,AR32,AR35,AR38,AR41,AR44,AR47)=0,\"\",SUM(AR20,AR23,AR26,AR29,AR32,AR35,AR38,AR41,AR44,AR47))","v":{"v":308,"d":"308 "}}]
[]
[]
[null,"以上のとおり報告致します。"]
[]
[{"$nulls":17},{"$f":"IF(R50=\"\",0,R50)","v":{"v":10,"d":"10 "}},{"$nulls":3},{"$f":"IF(V50=\"\",0,V50)","v":{"v":220,"d":"220 "}}]
[]
[]
[{"$nulls":17},{"$f":"IF(AN50=\"\",0,AN50)","v":{"v":14,"d":"14 "}},{"$nulls":3},{"$f":"IF(AR50=\"\",0,AR50)","v":{"v":308,"d":"308 "}}]
[]
[]
[{"$nulls":17},{"$f":"SUM(R55:U60)","v":{"v":24,"d":"24 "}},{"$nulls":3},{"$f":"SUM(V55:Y60)","v":{"v":528,"d":"528 "}}]